BEGIN:VCALENDAR
VERSION:2.0
CALSCALE:GREGORIAN
METHOD:PUBLISH
PRODID:iCalendar-Ruby
BEGIN:VEVENT
DESCRIPTION:NACAD Basketball \nNACAD 2026\nSeed 1 vs. Seed 2
DTEND;TZID=Pacific Time (US & Canada):20260426T100000
DTSTAMP:20260420T124452
DTSTART;TZID=Pacific Time (US & Canada):20260426T090000
LOCATION:College:Court 3
SEQUENCE:0
SUMMARY:Facilitrax by Recreational Solutions NACAD Basketball  Game
UID:2026-04-20T12:44:52-04:00_688106251@ip-172-31-60-83
END:VEVENT
BEGIN:VTIMEZONE
TZID:Pacific Time (US & Canada)
BEGIN:STANDARD
DTSTART:19701101T020000
RRULE:FREQ=YEARLY;BYMONTH=11;BYDAY=1SU
TZNAME:PST
TZOFFSETFROM:-0700
TZOFFSETTO:-0800
END:STANDARD
BEGIN:DAYLIGHT
DTSTART:19700308TO20000
RRULE:FREQ=YEARLY;BYMONTH=3;BYDAY=2SU
TZNAME:PDT
TZOFFSETFROM:-0800
TZOFFSETTO:-0700
END:DAYLIGHT
END:VTIMEZONE
END:VCALENDAR
